BEGIN:VCALENDAR
VERSION:2.0
PRODID:-//HTG Events Orlando - ECPv4.2//NONSGML v1.0//EN
CALSCALE:GREGORIAN
METHOD:PUBLISH
X-WR-CALNAME:HTG Events Orlando
X-ORIGINAL-URL:https://htg-events.com
X-WR-CALDESC:Events for HTG Events Orlando
BEGIN:VEVENT
DTSTART;TZID=America/New_York:20150815T220000
DTEND;TZID=America/New_York:20150816T023000
DTSTAMP:20260421T080334
CREATED:20150720T040000
LAST-MODIFIED:20160820T052138
UID:24320-1439676000-1439692200@htg-events.com
SUMMARY:Audien
DESCRIPTION:Audien\nENCORE - Saturdays at Gilt Nightclub\n\nSaturday 8.15.15\n\nw/ Special guest:\n\n-- Audien --\nIn the middle of a global explosion of Electronic Dance Music\, a genre that thrives in the most exclusive nightclubs of the world’s cosmopolitan cities\, a prodigious producer has emerged from the unlikeliest of places. The small seaport town of Mystic\, Connecticut\, has been the home of Audien (AKA Nate Rathbun) for his entire life\, and it’s in a small apartment in Mystic where Audien began creating music in 2008. Using a very basic set up\, and a secret cocktail of plug-ins\, Audien worked diligently to hone his craft. By age 17\, while his friends were either preparing college applications or teeing up jobs\, Audien began to test the waters by sending his unsolicited music out to producers\, labels & bloggers. Though confident in his sound\, Audien carefully managed his expectations\, suspecting it was unlikely that he’d hear back from a random demo submission. An enthusiastic response came\, however\, from Flashover Recordings\, the trance label owned by beloved Dutch Producer/DJ Ferry Corsten. Audien’s single “Rise & Shine” was released\, and soon thereafter he was off to the races.\n\nOver the next two years a slew of renowned labels came calling\, gravitating to Audien’s stunning melodies & innovative sonic landscapes. Audien worked meticulously\, but prolifically\, churning out anthems & remixes for labels including Armada\, Spinnin\, and Anjunabeats\, with tracks routinely charting on Beatport. Audien’s tracks also began to appear on compilations assembled by some of the genre’s giants\, including Tiesto’s Club Life\, Above & Beyond’s Trance Around The World\, and Armin Van Buuren’s A State of Trance. A particularly exciting opportunity presented itself in May of 2011\, when Audien had the opportunity to open for Van Buuren at New York’s Roseland. In just 3 years\, Audien had gone from idolizing Van Buuren to sharing a stage with him.\n\nWith his ability to create fresh tracks in auto-pilot\, Audien has turned his attention to performing live\, a craft he takes just as seriously as his production. Audien recently performed at some of the hottest clubs in the US including L.A.’s Exchange & Lure\, San Francisco’s Ruby Skye & Harlot\, New York’s Pacha\, XS in Las Vegas\, and Miami’s LIV. With more big shows forthcoming\, Audien is ready to continue his rapid rise out of Mystic\, and around the world.
URL:https://htg-events.com/event/gilt-nightclub/orlando/2015/audien/
LOCATION:740 Bennet Rd.\, Orlando\, FL\, 32804\, United States
GEO:28.5549259;-81.3342398
X-APPLE-STRUCTURED-LOCATION;VALUE=URI;X-ADDRESS=740 Bennet Rd. Orlando FL 32804 United States;X-APPLE-RADIUS=500;X-TITLE=740 Bennet Rd.:geo:-81.3342398,28.5549259
END:VEVENT
END:VCALENDAR