BEGIN:VCALENDAR
VERSION:2.0
PRODID:-//HTG Events Orlando - ECPv4.2//NONSGML v1.0//EN
CALSCALE:GREGORIAN
METHOD:PUBLISH
X-WR-CALNAME:HTG Events Orlando
X-ORIGINAL-URL:https://htg-events.com
X-WR-CALDESC:Events for HTG Events Orlando
BEGIN:VEVENT
DTSTART;TZID=America/New_York:20150425T220000
DTEND;TZID=America/New_York:20150426T023000
DTSTAMP:20260424T100149
CREATED:20150317T040000
LAST-MODIFIED:20160820T052138
UID:24301-1429999200-1430015400@htg-events.com
SUMMARY:Slander
DESCRIPTION:HTG Events and DDP will be hosting the legendary Slander in Orlando on April 23rd\, 2015 at Gilt Nightclub! Follow the link for event and ticketing information.\n\n \nSlander\n\n-----------------\nhttps://www.facebook.com/slanderofficial\nhttps://soundcloud.com/slanderofficial\nhttps://twitter.com/slanderofficial\nhttp://www.youredm.com/2014/03/15/edm-interview-slander/\n\n-----------------\nThough they have been perfecting their craft since 2010\, Slander has splashed onto the dance music scene with the feel of an overnight success story. Veteran DJ's as well as skilled producers\, their releases have catalyzed a devout following\, garnered millions of listens\, and even has seen them craft their own genre dubbed "Heaven Trap."\n\nEven with their rapid rise\, they are no stranger to support from the industry's top producers including DJ Snake\, Diplo\, Carnage\, Dyro\, Clockwork\, Bro Safari\, and Adventure Club. With past performances at Nocturnal Wonderland\, TomorrowWorld\, Moonrise Festival\, Something Wicked\, and more\, Slander has had the opportunity to show their tracks are festival worthy. The best venues from coast to coast have brought the LA duo out to headline\, including Webster Hall (NYC)\, The Mid (Chicago)\, Create (Los Angeles)\, and they just recently signed a long term deal with the #1 club in North America\, XS Las Vegas\, alongside fellow residents Avicii\, Deadmau5\, David Guetta\, Zedd\, and Skrillex. Undeniably the fastest growing act in dance music\, Slander is poised to make 2015 their year.\n\n-----------------\n\nTICKETS AVAILABLE NOW AT:\n\nhttp://slanderorlando.eventbrite.com/?aff=htg\n\n---\n\nWill call opens at the front door at 10:00pm.\nID/credit card used for purchase must be present for ticket pick-up.\n\n \n\nDress Code: Relaxed. No professional cameras permitted without an approved media pass. No backpacks. Bags subject to search.\n\n---\n\n18+ w/ valid ID\n\n \n\n 
URL:https://htg-events.com/event/gilt-nightclub/orlando/2015/slander/
LOCATION:740 Bennet Rd.\, Orlando\, FL\, 32804\, United States
GEO:28.5549259;-81.3342398
X-APPLE-STRUCTURED-LOCATION;VALUE=URI;X-ADDRESS=740 Bennet Rd. Orlando FL 32804 United States;X-APPLE-RADIUS=500;X-TITLE=740 Bennet Rd.:geo:-81.3342398,28.5549259
END:VEVENT
END:VCALENDAR