BEGIN:VCALENDAR
VERSION:2.0
PRODID:-//HTG Events Orlando - ECPv4.2//NONSGML v1.0//EN
CALSCALE:GREGORIAN
METHOD:PUBLISH
X-WR-CALNAME:HTG Events Orlando
X-ORIGINAL-URL:https://htg-events.com
X-WR-CALDESC:Events for HTG Events Orlando
BEGIN:VEVENT
DTSTART;TZID=America/New_York:20160521T220000
DTEND;TZID=America/New_York:20160521T220000
DTSTAMP:20260419T121946
CREATED:20160516T054502
LAST-MODIFIED:20160820T052137
UID:24551-1463868000-1463868000@htg-events.com
SUMMARY:Drezo
DESCRIPTION:HTG Events\, Gilt\, & DDP will be hosting Drezo in Orlando on May 21st\, 2016 at Gilt! Follow the link for event and ticketing information.\nDrezo\nAfter experimenting with different genres and trying to find his sound\, “Drezo” was established in early January 2012. The one man progressive minded monster isn’t well known\, but is slowly making his imprint in the electronic music scene. 2012 was a great year for the 21 year old after winning the 2012EDC Orlando Discovery Project\, earning a 9-10pm slot on the neonGarden stage. Now looking ahead at 2013\, Drezo is excited to start taking his productions to another level in every aspect of the house genre.\n\n18+ to party\, 21+ to drink\n\n---\n\nUCF Party Bus Pick Up Times & Locations:\n\n$10 includes round trip ride + reduced cover!\n\nHabaneros Mexican Restaurant - 10:30pm (Behind Knight's Pub)\n\nYou must call/text and RSVP or you will have to pay extra at the bus!\nOscar - 239.284.9141
URL:https://htg-events.com/event/gilt-nightclub/orlando/2016/24551/
LOCATION:740 Bennet Rd.\, Orlando\, FL\, 32804\, United States
GEO:28.5549259;-81.3342398
X-APPLE-STRUCTURED-LOCATION;VALUE=URI;X-ADDRESS=740 Bennet Rd. Orlando FL 32804 United States;X-APPLE-RADIUS=500;X-TITLE=740 Bennet Rd.:geo:-81.3342398,28.5549259
CATEGORIES:Featured Shows
ATTACH;FMTTYPE=image/png:https://img.htg-events.com/wp-content/uploads/2016/05/FACE.png
END:VEVENT
END:VCALENDAR