BEGIN:VCALENDAR
VERSION:2.0
PRODID:-//HTG Events Orlando - ECPv4.2//NONSGML v1.0//EN
CALSCALE:GREGORIAN
METHOD:PUBLISH
X-WR-CALNAME:HTG Events Orlando
X-ORIGINAL-URL:https://htg-events.com
X-WR-CALDESC:Events for HTG Events Orlando
BEGIN:VEVENT
DTSTART;TZID=America/New_York:20160618T220000
DTEND;TZID=America/New_York:20160619T023000
DTSTAMP:20260422T083440
CREATED:20160407T040000
LAST-MODIFIED:20160820T052137
UID:24360-1466287200-1466303400@htg-events.com
SUMMARY:Aly & Fila
DESCRIPTION:HTG Events\, Gilt\, & DDP will be hosting Aly & Fila in Orlando on June 18th\, 2016 at Gilt! Follow the link for event and ticketing information.\nAly & Fila\nhttp://www.facebook.com/alyandfila\nhttp://www.alyandfila.com\nhttp://www.twitter.com/alyandfila\n\nSince their burst onto the international clubbing consciousness with their massive hit ‘Eye of Horus’ back in 2003\, Aly & Fila have been a full-on inspiration to clubbers and DJ’s alike. Their euphoric\, uplifting blend of sweeping trance has seen them rise to an A-list status alongside the likes of Armin Van Buuren\, Paul Van Dyk\, Ferry Corsten and many more. At the forefront of the next generation of dance music superstars\, they’ve broken through the worldwide clubbing spectrum.\n\nEarly anthems such as ‘Eye of Horus’\, ‘Spirit of Ka’ and ‘Thebes’\, as well as heavyweight remixes to a number of high profile hits and artists have earned them worldwide critical acclaim from the press and fellow artists\, giving Aly & Fila that little push they needed to get to the top. And it paid off. As 2008 headed to a close\, the Egyptian duo continued their assault on the dance music scene\, sweeping nominations and highly respectable positions in the biggest dance music polls worldwide. They were the 3rd highest new entry in the 2008 DJ Mag Awards as they reached the #31 position\, up 80 places from 2007.\n\n18+ to party\, 21+ to drink\n\n---\n\nUCF Party Bus Pick Up Times & Locations:\n\n$10 includes round trip ride + reduced cover!\n\nHabaneros Mexican Restaurant - 10:30pm (Behind Knight's Pub)\n\nYou must call/text and RSVP or you will have to pay extra at the bus!\nOscar - 239.284.9141
URL:https://htg-events.com/event/gilt-nightclub/orlando/2016/aly-fila/
LOCATION:740 Bennet Rd.\, Orlando\, FL\, 32804\, United States
GEO:28.5549259;-81.3342398
X-APPLE-STRUCTURED-LOCATION;VALUE=URI;X-ADDRESS=740 Bennet Rd. Orlando FL 32804 United States;X-APPLE-RADIUS=500;X-TITLE=740 Bennet Rd.:geo:-81.3342398,28.5549259
CATEGORIES:Featured Shows
ATTACH;FMTTYPE=image/jpeg:https://img.htg-events.com/wp-content/uploads/2016/04/20P2.jpg
END:VEVENT
END:VCALENDAR