BEGIN:VCALENDAR
VERSION:2.0
PRODID:-//HTG Events Orlando - ECPv4.2//NONSGML v1.0//EN
CALSCALE:GREGORIAN
METHOD:PUBLISH
X-WR-CALNAME:HTG Events Orlando
X-ORIGINAL-URL:https://htg-events.com
X-WR-CALDESC:Events for HTG Events Orlando
BEGIN:VEVENT
DTSTART;TZID=America/New_York:20160423T220000
DTEND;TZID=America/New_York:20160424T023000
DTSTAMP:20260422T055142
CREATED:20160211T050000
LAST-MODIFIED:20160820T052138
UID:24350-1461448800-1461465000@htg-events.com
SUMMARY:Andrew Rayel
DESCRIPTION:HTG Events\, Gilt\, & DDP  will be hosting Andrew Rayel in Orlando on April 23rd\, 2016 at Gilt! Follow the link for event and ticketing information.\n\n \nAndrew Rayel\nhttps://www.facebook.com/Andrew.Rayel/\nhttps://twitter.com/andrew_rayel\nhttps://www.youtube.com/user/AndrewRayel/videos\n\n\nHe's the modern-day Mozart -- today's leading talent in the ever-growing trance scene. He's the pride of Moldova\, known for his unique and very own sound. He is Andrei Rata\, better known as Andrew Rayel.\n\n"Trance was the perfect solution\, as it is a combination of melody\, harmony and energy\, elements that I prefer the most"\, says Andrew Rayel. Having Armin van Buuren supporting his tracks on the world famous A State of Trance radio show had always been a dream of Andrew. And sometimes\, dreams come true. His tracks '550 Senta'\, 'How Do I Know' ft. Jano\, 'Aeon of Revenge'\, 'Aether'\, 'Deflagration'\, 'Musa' and 'Zeus' all made it to the show\, often voted Tune of the Week and Future Favourite. The trance scene embraced Andrew's refreshing sound\, giving him a very warm welcome.\n\nHis tracks found a solid home on the A State of Trance and Armind labels\, both part of the Armada Music family. With such impressive originals\, it didn't take long until the Rayel sound became hot property for remixes. And so\, Andrew was lucky enough to take on remix duties for tracks by Armin van Buuren\, Markus Schulz\, Tiësto\, W&W\, Bobina\, Tenishia\, and many more. Earning the support of the DJ elite\, the Rayel sound has spread all across the globe\, from underground clubs to mainstream festivals.\n\nThough his career is fairly young\, Andrew has already DJed the world's most legendary clubs and massive festivals. From Kazantip\, Global Gathering\, Trancefusion\, Ball En Blanc\, Trancemission and Ministry of Sound to multiple A State of Trance 600 events\, the A State of Trance Ibiza Nights at Privilege and the world-famous Monday Bar Cruise. As a result of his hard work and dedication\, fans voted him #28 in the DJ Mag Top 100 of 2013\, as the highest climber. Expectations for 2014's poll are even higher.\nThe same goes for the highly anticipated Andrew Rayel debut album. Set for release on Armada Music\, trance land eagerly holds its breath\, craving more of Andrew's magic dancing dust. Andrew's very first and official compilation: 'Mystery of Aether' came out on Armada Music in early September\, 2013. It's Rayel doing what he does best. He moves us. His 2014 collaboration with Armin himeself\, 'EIFORYA' is set to take the world by storm.\n\n"I believe music is a universal language that unites people with nothing but love. I intend to make sure that my tracks are all about emotions and happiness. That's what's driving music\, making the world a better place"\, says Andrew Rayel.\n\n\n\n18+ to party\, 21+ to drink\n\n—\n\nUCF Party Bus Pick Up Times & Locations:\n\n$10 includes round trip ride + reduced cover!\n\nHabaneros Mexican Restaurant – 10:30pm (Behind Knight’s Pub)\n\nYou must call/text and RSVP or you will have to pay extra at the bus!\nOscar – 239.284.9141\n\n
URL:https://htg-events.com/event/gilt-nightclub/orlando/2016/andrew-rayel-2/
LOCATION:740 Bennet Rd.\, Orlando\, FL\, 32804\, United States
GEO:28.5549259;-81.3342398
X-APPLE-STRUCTURED-LOCATION;VALUE=URI;X-ADDRESS=740 Bennet Rd. Orlando FL 32804 United States;X-APPLE-RADIUS=500;X-TITLE=740 Bennet Rd.:geo:-81.3342398,28.5549259
ATTACH;FMTTYPE=image/png:https://img.htg-events.com/wp-content/uploads/2016/02/20p2.png
END:VEVENT
END:VCALENDAR