BEGIN:VCALENDAR
VERSION:2.0
PRODID:-//HTG Events Orlando - ECPv4.2//NONSGML v1.0//EN
CALSCALE:GREGORIAN
METHOD:PUBLISH
X-WR-CALNAME:HTG Events Orlando
X-ORIGINAL-URL:https://htg-events.com
X-WR-CALDESC:Events for HTG Events Orlando
BEGIN:VEVENT
DTSTART;TZID=America/New_York:20160611T220000
DTEND;TZID=America/New_York:20160611T220000
DTSTAMP:20260421T104604
CREATED:20160601T211454
LAST-MODIFIED:20160820T052137
UID:24574-1465682400-1465682400@htg-events.com
SUMMARY:Infected Mushroom
DESCRIPTION:HTG Events\, Gilt\, & DDP will be hosting Infected Mushroom in Orlando on June 11th\, 2016 at Gilt! Follow the link for event and ticketing information.\nInfected Mushroom\nMining Israel's Goa trance of its hottest intensities\, Infected Mushroom remain one of the Middle East's biggest international cult successes. Erez Aizen's cheap background in obsessed bedroom computer tinkering had led him into and out of a number of crude dance efforts\, and when a mutual friend suggested he should get together with Amit Duvdevani\, a thrash metal fan who had just returned from an aborted career path in India\, the two found enough in common to surreptitiously explore the rising psychedelic trends pouring out of the nation's clubs. The results -- 1999'sThe Gathering\, which was heavily inspired by the surreal ambient dance of Simon Posford\, X-Dream\, and Transwave\, and 2000's Classical Mushroom\, an aggressively melodic trance LP that broke the European\, Japanese\, and American markets -- elevatedInfected Mushroom to one of Israel's key trance production duos.\n\n18+ to party\, 21+ to drink\n\n---\n\nUCF Party Bus Pick Up Times & Locations:\n\n$10 includes round trip ride + reduced cover!\n\nHabaneros Mexican Restaurant - 10:30pm (Behind Knight's Pub)\n\nYou must call/text and RSVP or you will have to pay extra at the bus!\nOscar - 239.284.9141
URL:https://htg-events.com/event/gilt-nightclub/orlando/2016/infected-mushroom/
LOCATION:740 Bennet Rd.\, Orlando\, FL\, 32804\, United States
GEO:28.5549259;-81.3342398
X-APPLE-STRUCTURED-LOCATION;VALUE=URI;X-ADDRESS=740 Bennet Rd. Orlando FL 32804 United States;X-APPLE-RADIUS=500;X-TITLE=740 Bennet Rd.:geo:-81.3342398,28.5549259
CATEGORIES:Featured Shows
ATTACH;FMTTYPE=image/png:https://img.htg-events.com/wp-content/uploads/2016/06/SITE1.png
END:VEVENT
END:VCALENDAR