BEGIN:VCALENDAR
VERSION:2.0
PRODID:-//HTG Events Orlando - ECPv4.2//NONSGML v1.0//EN
CALSCALE:GREGORIAN
METHOD:PUBLISH
X-WR-CALNAME:HTG Events Orlando
X-ORIGINAL-URL:https://htg-events.com
X-WR-CALDESC:Events for HTG Events Orlando
BEGIN:VEVENT
DTSTART;TZID=America/New_York:20160709T220000
DTEND;TZID=America/New_York:20160709T220000
DTSTAMP:20260422T043818
CREATED:20160606T144517
LAST-MODIFIED:20160820T052137
UID:24599-1468101600-1468101600@htg-events.com
SUMMARY:Kennedy Jones
DESCRIPTION:HTG Events\, Gilt\, & DDP will be hosting Kennedy Jones in Orlando on July 9th 2016 at Gilt! Follow the link for event and ticketing information.\nKennedy Jones\nBorn and raised on the Sunny shores of Southern California\, Kennedy Jones has spent most of his life around big bass music. After seeing great success with a collaborative Dubstep project\, including a track signed to Ultra Records\, Kennedy decided that the time was right for a solo project. Taking elements from all of his favorite styles of music and cramming them into some of the most unique sounding tracks that anyone had heard\, this new "Kennedy Jones" project quickly took the bass music scene by storm. With overwhelming support from artists such as Carnage\, Major Lazer\, Borgore\, Ookay\, Brillz\, Bro Safari\, Mt Eden\, Nadastrom\, Luminox\, 12th Planet\, and more\, Kennedy Jones has continued to show the world that his high-energy\, bass-fueled\, twerk-enducing\, music can take any venue to a whole new level.\n\nMost notably\, the recent release of Elvis Crespo's "Suavemente" (Kennedy Jones Trap Remix) on the Buygore All Stars Album (http://bit.ly/kjsuavemente ) which has recently been played on the Los Angeles based radio station Power 106 and UK based radio station BBC Radio 1 by multiple artists (http://www.bbc.co.uk/programmes/p013jsw3 ). The album also features a collaboration between Kennedy Jones and Borgore with their 110BPM dance floor smasher remix of "Macarena".\n\nMore recently his songs like Katy Perry's "Roar" (Kennedy Jones LOUDER remix) and "No Return" have shown the world that Kennedy isn't just a one-trick-pony. Branching out into genres like Hardstyle and Big Room House\, Kennedy Jones used 2013 as a time to show everyone just how musically diverse he really is.\n\nKennedy's music has received domestic radio support from LA stations such as Power 106 and KIISFM 102.7 as well as BBC Radio 1 Support from artists such as Diplo\, 12th Planet\, Mistajam\, Benga\, Skream\, N-Type\, and more!\n\nHaving started his solo project in December 2012\, Kennedy quickly became recognized as the artist to watch in 2013 and has kept up the pace in 2014 as he continues to gain support and fans that want more of his highly versatile productions and awe-inspiring live performances.\n\n18+ to party\, 21+ to drink\n\n---\n\nUCF Party Bus Pick Up Times & Locations:\n\n$10 includes round trip ride + reduced cover!\n\nHabaneros Mexican Restaurant - 10:30pm (Behind Knight's Pub)\n\nYou must call/text and RSVP or you will have to pay extra at the bus!\nOscar - 239.284.9141\n\n 
URL:https://htg-events.com/event/gilt-nightclub/orlando/2016/kennedy-jones/
LOCATION:740 Bennet Rd.\, Orlando\, FL\, 32804\, United States
GEO:28.5549259;-81.3342398
X-APPLE-STRUCTURED-LOCATION;VALUE=URI;X-ADDRESS=740 Bennet Rd. Orlando FL 32804 United States;X-APPLE-RADIUS=500;X-TITLE=740 Bennet Rd.:geo:-81.3342398,28.5549259
CATEGORIES:Featured Shows
ATTACH;FMTTYPE=image/png:https://img.htg-events.com/wp-content/uploads/2016/06/kj_orlando_FACE.png
END:VEVENT
END:VCALENDAR