BEGIN:VCALENDAR
VERSION:2.0
PRODID:-//HTG Events Orlando - ECPv4.2//NONSGML v1.0//EN
CALSCALE:GREGORIAN
METHOD:PUBLISH
X-WR-CALNAME:HTG Events Orlando
X-ORIGINAL-URL:https://htg-events.com
X-WR-CALDESC:Events for HTG Events Orlando
BEGIN:VEVENT
DTSTART;TZID=America/New_York:20161217T220000
DTEND;TZID=America/New_York:20161218T023000
DTSTAMP:20260421T233457
CREATED:20161214T172021
LAST-MODIFIED:20161214T172021
UID:24884-1482012000-1482028200@htg-events.com
SUMMARY:Party Favor - Winter Break Edition
DESCRIPTION:HTG Events\, Gilt\, & DDP will be hosting Party Favor in Orlando on Dec 14th 2016 at Gilt! Follow the link for event and ticketing information.\nParty Favor\nFew acts posses the innovative character and diverse repertoire of Los Angeles’ fastest rising name in bass. Dylan R took the name Party Favor in 2011 to bring a series of unexpected influences to electronic music. The result: an effort that helped to pioneer the festival trap genre\, turn heads across the globe and land him a spot on Bombsquad Records where his debut EP charted instantly on Beatport. His first single “Meow” went on to land a Top 10 spot as well just months later. Now he jumps between groundbreaking collaborations twisting genre and creating ingenious records.\n\nParty Favor’s music receives consistent support from Skrillex\, Diplo\, Borgore\, DJ Carnage\, The Far East Movement\, Tropkilliaz\, Mix Master Mike\, Bro Safari\, UFO!\, DJ Snake and more at the world’s largest venues from UMF to SXSW & Coachella.\n\n18+ to party\, 21+ to drink
URL:https://htg-events.com/event/gilt-nightclub/orlando/2016/party-favor-winter-break-edition/
LOCATION:740 Bennet Rd.\, Orlando\, FL\, 32804\, United States
GEO:28.5549259;-81.3342398
X-APPLE-STRUCTURED-LOCATION;VALUE=URI;X-ADDRESS=740 Bennet Rd. Orlando FL 32804 United States;X-APPLE-RADIUS=500;X-TITLE=740 Bennet Rd.:geo:-81.3342398,28.5549259
CATEGORIES:Featured Shows
ATTACH;FMTTYPE=image/jpeg:https://img.htg-events.com/wp-content/uploads/2016/12/15267946_1380416381970575_5323469673059743813_n.jpg
END:VEVENT
END:VCALENDAR