BEGIN:VCALENDAR
VERSION:2.0
PRODID:-//HTG Events Orlando - ECPv4.2//NONSGML v1.0//EN
CALSCALE:GREGORIAN
METHOD:PUBLISH
X-WR-CALNAME:HTG Events Orlando
X-ORIGINAL-URL:https://htg-events.com
X-WR-CALDESC:Events for HTG Events Orlando
BEGIN:VEVENT
DTSTART;TZID=America/New_York:20160820T220000
DTEND;TZID=America/New_York:20160821T023000
DTSTAMP:20260421T104011
CREATED:20160718T164545
LAST-MODIFIED:20160820T052137
UID:24651-1471730400-1471746600@htg-events.com
SUMMARY:Party Favor
DESCRIPTION:HTG Events\, Gilt\, & DDP will be hosting Party Favor in Orlando on Aug 20th 2016 at Gilt! Follow the link for event and ticketing information.\nParty Favor\nFew acts posses the innovative character and diverse repertoire of Los Angeles’ fastest rising name in bass. Dylan R took the name Party Favor in 2011 to bring a series of unexpected influences to electronic music. The result: an effort that helped to pioneer the festival trap genre\, turn heads across the globe and land him a spot on Bombsquad Records where his debut EP charted instantly on Beatport. His first single “Meow” went on to land a Top 10 spot as well just months later. Now he jumps between groundbreaking collaborations twisting genre and creating ingenious records.\n\nParty Favor’s music receives consistent support from Skrillex\, Diplo\, Borgore\, DJ Carnage\, The Far East Movement\, Tropkilliaz\, Mix Master Mike\, Bro Safari\, UFO!\, DJ Snake and more at the world’s largest venues from UMF to SXSW & Coachella.\n\n18+ to party\, 21+ to drink\n\n---\n\nUCF Party Bus Pick Up Times & Locations:\n\n$10 includes round trip ride + reduced cover!\n\nHabaneros Mexican Restaurant - 10:30pm (Behind Knight's Pub)\n\nYou must call/text and RSVP or you will have to pay extra at the bus!\nOscar - 239.284.9141
URL:https://htg-events.com/event/gilt-nightclub/orlando/2016/party-favor/
LOCATION:740 Bennet Rd.\, Orlando\, FL\, 32804\, United States
GEO:28.5549259;-81.3342398
X-APPLE-STRUCTURED-LOCATION;VALUE=URI;X-ADDRESS=740 Bennet Rd. Orlando FL 32804 United States;X-APPLE-RADIUS=500;X-TITLE=740 Bennet Rd.:geo:-81.3342398,28.5549259
CATEGORIES:Featured Shows
ATTACH;FMTTYPE=image/png:https://img.htg-events.com/wp-content/uploads/2016/07/pf_FACE.png
END:VEVENT
END:VCALENDAR