BEGIN:VCALENDAR
VERSION:2.0
PRODID:-//HTG Events Orlando - ECPv4.2//NONSGML v1.0//EN
CALSCALE:GREGORIAN
METHOD:PUBLISH
X-WR-CALNAME:HTG Events Orlando
X-ORIGINAL-URL:https://htg-events.com
X-WR-CALDESC:Events for HTG Events Orlando
BEGIN:VEVENT
DTSTART;TZID=America/New_York:20160123T220000
DTEND;TZID=America/New_York:20160124T023000
DTSTAMP:20260419T120632
CREATED:20160114T050000
LAST-MODIFIED:20160820T052138
UID:24348-1453586400-1453602600@htg-events.com
SUMMARY:R3hab
DESCRIPTION:HTG Events\, Gilt\, & DDP  will be hosting R3hab in Orlando on January 23rd\, 2016 at Gilt! Follow the link for event and ticketing information.\nR3HAB\n \n\n\n\nPerforming and recording under the name R3hab\, EDM artist Fadil El Ghoul started his career in 2008 producing the track "Mrkrstft" for Hardwell. He teamed up with Hardwell once again in 2009 on the single "Blue Magic\," and worked with Afrojack in 2011 on "Aces High (Prutata)." Later that year\, and during 2012\, he was commissioned to remix artists such as Jennifer Lopez\, Madonna\, Katy Perry\, and more. By this point he had accumulated a large discography\, releasing material on many labels including Afrojack's Wall Recordings and the German label Tiger Records\, but it was with Spinnin' Records that he developed the closest relationship. This eventually led to "Revolution\," a 2013 collaboration with Nervo and Ummet Ozcan on the label that reached the Top 40 of the U.K. singles chart. I Need R3Hab\, his weekly radio show on SiriusXM\, subsequently gained in popularity\, during a year that began with a third International Dance Music Award and ended with a Steve Aoki collaboration on the single "Flight." He subsequently garnered prestigious 2014 slots at Tomorrowland\, Future Music\, Creamfields\, and Summerburst\, and that same year he put out the 12" "Androids\," "Flashlight" with Deorro\, and "Ready for the Weekend\," which were among some of his biggest-selling singles. ~ Aneet Nijjar & James Wilkinson\, Rovi\n\n18+ to party\, 21+ to drink\n\n---\n\nUCF Party Bus Pick Up Times & Locations:\n\n$10 includes round trip ride + reduced cover!\n\nHabaneros Mexican Restaurant - 10:30pm (Behind Knight's Pub)\n\nYou must call/text and RSVP or you will have to pay extra at the bus!\nOscar - 239.284.9141
URL:https://htg-events.com/event/gilt-nightclub/orlando/2016/r3hab/
LOCATION:740 Bennet Rd.\, Orlando\, FL\, 32804\, United States
GEO:28.5549259;-81.3342398
X-APPLE-STRUCTURED-LOCATION;VALUE=URI;X-ADDRESS=740 Bennet Rd. Orlando FL 32804 United States;X-APPLE-RADIUS=500;X-TITLE=740 Bennet Rd.:geo:-81.3342398,28.5549259
END:VEVENT
END:VCALENDAR