BEGIN:VCALENDAR
VERSION:2.0
PRODID:-//HTG Events Orlando - ECPv4.2//NONSGML v1.0//EN
CALSCALE:GREGORIAN
METHOD:PUBLISH
X-WR-CALNAME:HTG Events Orlando
X-ORIGINAL-URL:https://htg-events.com
X-WR-CALDESC:Events for HTG Events Orlando
BEGIN:VEVENT
DTSTART;TZID=America/New_York:20200314T220000
DTEND;TZID=America/New_York:20200315T030000
DTSTAMP:20260420T083119
CREATED:20191202T155210
LAST-MODIFIED:20191202T183421
UID:25756-1584223200-1584241200@htg-events.com
SUMMARY:i_o
DESCRIPTION:HTG Events\, Gilt\, & DDP will be hosting i_0's "I am now in control tour"  in Orlando on March 14th\, 2020 at Gilt! Follow the link for event and ticketing information.\n\nSaturday 3.14.20\n\nw/ Special guest:\n\ni_o
URL:https://htg-events.com/event/gilt-nightclub/orlando/2019/i_o/
LOCATION:740 Bennet Rd.\, Orlando\, FL\, 32804\, United States
GEO:28.5549259;-81.3342398
X-APPLE-STRUCTURED-LOCATION;VALUE=URI;X-ADDRESS=740 Bennet Rd. Orlando FL 32804 United States;X-APPLE-RADIUS=500;X-TITLE=740 Bennet Rd.:geo:-81.3342398,28.5549259
CATEGORIES:Featured Shows
ATTACH;FMTTYPE=image/jpeg:https://img.htg-events.com/wp-content/uploads/2019/12/io.jpg
END:VEVENT
END:VCALENDAR