BEGIN:VCALENDAR
VERSION:2.0
PRODID:-//HTG Events Orlando - ECPv4.2//NONSGML v1.0//EN
CALSCALE:GREGORIAN
METHOD:PUBLISH
X-WR-CALNAME:HTG Events Orlando
X-ORIGINAL-URL:https://htg-events.com
X-WR-CALDESC:Events for HTG Events Orlando
BEGIN:VEVENT
DTSTART;TZID=America/New_York:20150217T190000
DTEND;TZID=America/New_York:20150218T000000
DTSTAMP:20260424T045025
CREATED:20141118T050000
LAST-MODIFIED:20160820T052326
UID:24288-1424199600-1424217600@htg-events.com
SUMMARY:Excision 2015 Tour
DESCRIPTION:Excision 2015 Tour\nHTG Events will be hosting the legendary Excision in Orlando on February 17\, 2015 at House of Blues! Follow the link for event and ticketing information.\n\n \n\nDisco Donnie Presents\, HTG\, Live Nation\, and Vizion 1 Presents:\n\nExcision\n---------\nFacebook - https://www.facebook.com/Excision\nYoutube - http://youtube.com/excisionofficial\nTwitter - http://twitter.com/excision\nWeb page - http://www.excision.ca/\n\nhttps://soundcloud.com/excision\n\nProtohype\n------------\nFacebook - www.facebook.com/protohypemusic\nSoundcloud - www.soundcloud.com/protohype\nTwitter - www.twitter.com/Protohype\n\nMinnesota\n-------------\nFacebook - https://www.facebook.com/DJMinnesota\nWeb page - http://www.minnmusic.com/\nSoundcloud - https://soundcloud.com/minnesota\nAfter months of anticipation\, EXCISION is set to return to North America in early 2015 to bring you the 2015 tour - a submersion into bass music and an intense audiovisual experience that will completely blow you away.\n\nThe 2015 tour will be anchored by Excision's Visual masterpiece - THE EXECUTIONER\, a behemoth of a production piece and a true breakthrough in the world of video mapping technology. THE EXECUTIONER is a 28 foot wide\, 15 foot tall video mapped masterpiece that displays a proud 420 square feet of world class true 3D video mapped animations that will daze and amaze all those caught in its path. The greatest projector available in the world will cast some of the most intricate and amazing animations you have ever seen on to this mechanical bunker in which EXCISION will reside\, performing a live set that will sync audio with video simultaneously using groundbreaking technology.\n\nTHE EXECUTIONER will be accompanied by an arsenal of over 40 arena class intelligent lights\, and if that wasn't enough\, PK SOUND will return on the 2015 tour to bring a full PA comprised of more than 100\,000 watts of full on bone-crushing sound.\n\nExcision will be recruiting audio support from heavy bass hitters Protohype and Minnesota for the duration of the tour\, who will add bass dimensions of their own to this enormous and spectacular experience.\n\nPrepare yourselves... the EXECUTIONER is coming for you.\n\n******************************************************\n\nTICKETS ON SALE FRIDAY NOW AT\nhttp://www.livenation.com/artists/45655/excision\n\n******************************************************
URL:https://htg-events.com/event/house-of-blues/orlando/2014/excision-2015-tour-house-of-blues-orlando-tuesday-2-17-15/
LOCATION:1490 Buena Vista Dr\, Lake Buena Vista\, FL\, 32830\, United States
GEO:28.3709021;-81.521728
X-APPLE-STRUCTURED-LOCATION;VALUE=URI;X-ADDRESS=1490 Buena Vista Dr Lake Buena Vista FL 32830 United States;X-APPLE-RADIUS=500;X-TITLE=1490 Buena Vista Dr:geo:-81.521728,28.3709021
END:VEVENT
END:VCALENDAR