BEGIN:VCALENDAR
VERSION:2.0
PRODID:-//HTG Events Orlando - ECPv4.2//NONSGML v1.0//EN
CALSCALE:GREGORIAN
METHOD:PUBLISH
X-WR-CALNAME:HTG Events Orlando
X-ORIGINAL-URL:https://htg-events.com
X-WR-CALDESC:Events for HTG Events Orlando
BEGIN:VEVENT
DTSTART;TZID=America/New_York:20160212T190000
DTEND;TZID=America/New_York:20160213T000000
DTSTAMP:20260422T084020
CREATED:20151110T050000
LAST-MODIFIED:20160820T052326
UID:24334-1455303600-1455321600@htg-events.com
SUMMARY:Excision Paradox Tour
DESCRIPTION:HTG Events\, DDP\, and Live Nation will be hosting Excision  in Orlando on February 12th\, 2016 at House of Blues! Follow the link for event and ticketing information.\n\nNow Abel is beginning a new chapter with The Paradox. “I felt that we had done everything we could do with the Executioner\,” he says. “Rather than do the same show for a fourth year it was time for something new.”\n\nThe Paradox is Excision’s third custom stage installation to date\, and mark’s his team’s most ambitious project yet: “Over the last few years we've been tracking all of the things we wished the Executioner stage could do\, and we've rolled every one of them into the Paradox\,” he says. Whereas the Executioner utilized video projection mapping\, the Paradox will be a modular\, LED-based setup\, capable of adjusting its size to meet venue constraints.\nThe Paradox Tour\nExcision has set the bar for insane projection mapped stages. From incredible bass to motorized canopies his stages have blown us away year after year. Expect nothing but mind bending visuals and awesomeness from The Paradox Tour!\nExcision\n-----------\nhttp://excision.ca/\nhttps://www.facebook.com/Excision/\nhttps://twitter.com/excision\nhttps://www.youtube.com/user/ExcisionOfficial\n\n \nFigure\n--------\nhttps://www.facebook.com/IMFIGURE\nhttp://soundcloud.com/figure\nhttp://www.Twitter.com/ImFigure\n\n\n*******************************\nTICKET PRESALE BEGINS\nNovember 17 at 03:00 PM EST\n*******************************\n\nArrive early to avoid the lines and traffic. House of Blues Orlando is located at Disney Springs - formerly known as Downtown Disney.\n\nThis is an all ages event
URL:https://htg-events.com/event/house-of-blues/orlando/2015/excision-paradox-tour/
LOCATION:1490 Buena Vista Dr\, Lake Buena Vista\, FL\, 32830\, United States
GEO:28.3709021;-81.521728
X-APPLE-STRUCTURED-LOCATION;VALUE=URI;X-ADDRESS=1490 Buena Vista Dr Lake Buena Vista FL 32830 United States;X-APPLE-RADIUS=500;X-TITLE=1490 Buena Vista Dr:geo:-81.521728,28.3709021
END:VEVENT
END:VCALENDAR