BEGIN:VCALENDAR
VERSION:2.0
PRODID:-//HTG Events Orlando - ECPv4.2//NONSGML v1.0//EN
CALSCALE:GREGORIAN
METHOD:PUBLISH
X-WR-CALNAME:HTG Events Orlando
X-ORIGINAL-URL:https://htg-events.com
X-WR-CALDESC:Events for HTG Events Orlando
BEGIN:VEVENT
DTSTART;TZID=America/New_York:20150129T220000
DTEND;TZID=America/New_York:20150130T023000
DTSTAMP:20260424T100149
CREATED:20141217T050000
LAST-MODIFIED:20160820T052354
UID:24289-1422568800-1422585000@htg-events.com
SUMMARY:Wildstylez
DESCRIPTION:Lose Control Tour 2015\nHTG Events will be hosting the legendary Wildstylez in Orlando on January 29\, 2015 at Venue 578! Follow the link for event and ticketing information.\n\n \n\nWildstylez\n\n------------\n\nwww.q-dance.com\nwww.wildstylez.com\nwww.fb.com/wildstylez\nwww.twitter.com/wildstylez\n\nwww.soundcloud.com/wildstylez\n\nWildstylez is one of the leading artists in the harder styles. He is always pushing musical boundaries with his music. With his single 'Lose My Mind' has become an anthem within the hardstyle scene and his single 'Timeless' became an instant classic even before it got released.\nThis year he also wrote history as his single 'Year Of Summer' became the first ever hardstyle single to hit daytime radio and to receive 'platinum status' on single sales.\n\nBorn in 1983 as Joram Metekohy in the small Dutch village of Veenendaal the artist known as Wildstylez knows what hardstyle can do. When he discovered Hardstyle in the early Noughties\, an energetic\, fraternizing genre that can be brought in different guises. And maybe it’s the different bands he performed in\, or just his preference for songs with vocals –but soon Wildstylez is there to present his own brand of Hardstyle.\n\nWith Hardstyle becoming more and more influential everywhere\, including the burgeoning EDM scene in the US\, Wildstylez seems like the designated artist to keep building new bridges between Hardstyle and the other genre’s of music. Nevertheless Wildstylez is an artist with both feet firmly on the ground\, remaining loyal to Hardstyle itself whilst working with an open mind\, conquering the world in his own special unique way.\n\n---\n\nHTG will also be adding high tech LED special effects and lighting. Considered by many to be the best in the industry!\n\n---\n\nTICKETS AVAILABLE HERE:\n\nhttp://qdanceorlando.eventbrite.com/?aff=htg\n\n---\n\nBottle Service & Table Reservations (21+):\nCall/text 407-883-9033 or email VIP@firestonelive.net for purchase minimums\, package pricing and availability.\n\n---\n\nWill call opens at the front door at 10:00pm.\nID/credit card used for purchase must be present for ticket pick-up.\n\nParking: Lighted and secure parking with gated security for $6 behind the venue at 42 W. Concord Street. Parking also available on the street or in downtown garages.\n\nDress Code: Relaxed. No professional cameras permitted without an approved media pass. No backpacks. Bags subject to search.\n\n---\n\n18+ w/ valid ID. No re-entry.\n\n 
URL:https://htg-events.com/event/venue-578-firestone/orlando/2014/wildstylez/
LOCATION:578 N Orange Ave.\, Orlando\, FL\, 32801\, United States
GEO:28.5507299;-81.3794591
X-APPLE-STRUCTURED-LOCATION;VALUE=URI;X-ADDRESS=578 N Orange Ave. Orlando FL 32801 United States;X-APPLE-RADIUS=500;X-TITLE=578 N Orange Ave.:geo:-81.3794591,28.5507299
END:VEVENT
END:VCALENDAR