BEGIN:VCALENDAR
VERSION:2.0
PRODID:-//HTG Events Orlando - ECPv4.2//NONSGML v1.0//EN
CALSCALE:GREGORIAN
METHOD:PUBLISH
X-WR-CALNAME:HTG Events Orlando
X-ORIGINAL-URL:https://htg-events.com
X-WR-CALDESC:Events for HTG Events Orlando
BEGIN:VEVENT
DTSTART;TZID=America/New_York:20150417T220000
DTEND;TZID=America/New_York:20150418T023000
DTSTAMP:20260424T100001
CREATED:20150310T040000
LAST-MODIFIED:20160820T052353
UID:24300-1429308000-1429324200@htg-events.com
SUMMARY:Adventure Club
DESCRIPTION:HTG Events and DDP will be hosting the legendary Adventure Club in Orlando on April 17th\, 2015 at Venue 578! Follow the link for event and ticketing information.\n\n \nAdventure Club\n\n-------------------\nhttp://www.soundcloud.com/AdventureClubDubstep\nhttp://www.youtube.com/AdventureClubDubstep\nhttp://www.twitter.com/adventuredub\nhttp://www.stndrdgrp.com/\n\n--------------------\n\nThe duo formed while attending high school in Montreal as a hardcore pop-punk band\, but later decided to move onto the more electronic sound of electronic dance music (EDM) after simply getting bored with the pop-punk sound.\n\nThe first song to put the duo on the map was their remix of the song "Daisy" from the studio album Daisy (2009) by the American alternative-rock band Brand New\, which was put on The Hype Machine\, an MP3 blog aggregator website.\n\nSome of the major influences to their sound include Tiësto\, Flux Pavilion\, Greeley Estates\, Bring Me the Horizon and Skrillex. The duo's signature sound includes high-pitched female vocals with electronic sounds and heavy drops. Through online social network sites\, the duo were able to reach new levels of exposure by getting their first music video on the UKF Dubstep's YouTube channel. As of November 2012\, the music video to the remix of "Everything to Me" by LIPS has over 2 million views and was produced and directed by Cedric Sequerra of LuckyFish Productions. All of the props\, including weapons\, helmets & monsters were made by hand by the cast and crew.\n\nThe duo is signed under the management team of The Standard Group. Some of their signature sound can also be credited to the program that they use to produce their music. Cakewalk SONAR is a less-commonly-used program in electronic dance music where FL Studio and Ableton Live reign supreme\, but the duo give credit to the program in separating them from the pack. Some of the other equipment and software that they use include a Fireface console\, Traktor Pro\, Audio 6 and Kontrol X1.\n\n-----------------\n\nHTG will also be adding high tech LED special effects and lighting. Considered by many to be the best in the industry!\n\nTICKETS AVAILABLE NOW AT:\nhttp://aclub2015orlando.eventbrite.com/?aff=htg\n\nBottle Service & Table Reservations (21+):\nCall/text 407-883-9033 or email VIP@venue578.com for purchase minimums\, package pricing and availability.\nhttp://www.venue578.com/#!tableservice/ct74\n---\n\nWill call opens at the front door at 10:00pm.\nID/credit card used for purchase must be present for ticket pick-up.\n\nParking: Lighted and secure parking with gated security for $10 behind the venue at 42 W. Concord Street. Parking also available on the street or in downtown garages.\n\nDress Code: Relaxed. No professional cameras permitted without an approved media pass. No backpacks. Bags subject to search.\n\n---\n\n18+ w/ valid ID\n\n \n\n \n\n \n\n \n\n \n\n \n\n \n\n 
URL:https://htg-events.com/event/venue-578-firestone/orlando/2015/adventure-club/
LOCATION:578 N Orange Ave.\, Orlando\, FL\, 32801\, United States
GEO:28.5507299;-81.3794591
X-APPLE-STRUCTURED-LOCATION;VALUE=URI;X-ADDRESS=578 N Orange Ave. Orlando FL 32801 United States;X-APPLE-RADIUS=500;X-TITLE=578 N Orange Ave.:geo:-81.3794591,28.5507299
END:VEVENT
END:VCALENDAR