BEGIN:VCALENDAR
VERSION:2.0
PRODID:-//HTG Events Orlando - ECPv4.2//NONSGML v1.0//EN
CALSCALE:GREGORIAN
METHOD:PUBLISH
X-WR-CALNAME:HTG Events Orlando
X-ORIGINAL-URL:https://htg-events.com
X-WR-CALDESC:Events for HTG Events Orlando
BEGIN:VEVENT
DTSTART;TZID=America/New_York:20160220T220000
DTEND;TZID=America/New_York:20160221T023000
DTSTAMP:20260422T055454
CREATED:20151204T050000
LAST-MODIFIED:20160820T052353
UID:24339-1456005600-1456021800@htg-events.com
SUMMARY:Alison Wonderland
DESCRIPTION:HTG Events & DDP  will be hosting Alison Wonderland in Orlando on February 20th\, 2016 at Venue 578! Follow the link for event and ticketing information.\nAlison Wonderland\n\n---------------\nhttps://www.facebook.com/awonderdj\nhttp://www.alisonwonderland.com.au/\nhttps://twitter.com/awonderdj\nhttps://www.instagram.com/alisonwonderland/\n\nHTG will also be adding high tech LED special effects and lighting. Considered by many to be the best in the industry!\n\n**********************************\nTICKETS AVAILABLE NOW AT:\nhttp://alisonwonderland2016orlando.eventbrite.com/?aff=htg\n**********************************\n\nBottle Service & Table Reservations (21+):\nCall/text 407-883-9033 or email VIP@venue578.com for purchase minimums\, package pricing and availability.\n\n---\n\nWill call opens at the front door at 10:00pm.\nID/credit card used for purchase must be present for ticket pick-up.\n\nParking: Lighted and secure parking with gated security for $10 behind the venue at 42 W. Concord Street. Parking also available on the street or in downtown garages.\n\nDress Code: Relaxed. No professional cameras permitted without an approved media pass. No backpacks. Bags subject to search.\n\n---\n18+ w/ valid ID
URL:https://htg-events.com/event/venue-578-firestone/orlando/2015/alison-wonderland/
LOCATION:578 N Orange Ave.\, Orlando\, FL\, 32801\, United States
GEO:28.5507299;-81.3794591
X-APPLE-STRUCTURED-LOCATION;VALUE=URI;X-ADDRESS=578 N Orange Ave. Orlando FL 32801 United States;X-APPLE-RADIUS=500;X-TITLE=578 N Orange Ave.:geo:-81.3794591,28.5507299
ATTACH;FMTTYPE=image/jpeg:https://img.htg-events.com/wp-content/uploads/2015/12/site2-1.jpg
END:VEVENT
END:VCALENDAR