BEGIN:VCALENDAR
VERSION:2.0
PRODID:-//HTG Events Orlando - ECPv4.2//NONSGML v1.0//EN
CALSCALE:GREGORIAN
METHOD:PUBLISH
X-WR-CALNAME:HTG Events Orlando
X-ORIGINAL-URL:https://htg-events.com
X-WR-CALDESC:Events for HTG Events Orlando
BEGIN:VEVENT
DTSTART;TZID=America/New_York:20260424T090512
DTEND;TZID=America/New_York:20260424T090512
DTSTAMP:20260424T130512
CREATED:20151119T050000
LAST-MODIFIED:20160820T052354
UID:24335-1777021512-1777021512@htg-events.com
SUMMARY:Brillz Twonk DiNation tour
DESCRIPTION:HTG Events and DDP  will be hosting Brillz Twonk Di Nation tour  in Orlando on January 22nd\, 2016 at Venue 578! Follow the link for event and ticketing information.\nTwonk DiNation Tour\nw/\nBrillz\nhttps://www.facebook.com/ItsBrillz\nhttps://twitter.com/ItsBrillz\nhttps://soundcloud.com/itsbrillz\nParty Favor\nhttp://www.partyfavormusic.com/\nhttps://twitter.com/partyfavormusic\nhttps://www.facebook.com/PartyFavorMusic\nLaxx\nhttp://laxxofficial.com/\nhttps://www.facebook.com/LAXXuk/\nhttps://twitter.com/laxxuk\nhttps://instagram.com/laxxuk/\nParty Thieves\nhttps://www.facebook.com/PartyThieves\nhttp://www.partythievesmusic.com/\nhttps://twitter.com/partythieves\n\nThe Twonk'd tour bus will be rolling thru Orlando in 2016 and it will be loaded down with friends. We expect this night to be the trappiest bass extravaganaza Orlando has even seen!\n\nKnown for turning heads with his high-octane bass\, Brillz’s brand of trap merges the swagger of hip hop with the fluidity of dance music. “Twonk is a human weirdo and twonk team is the movement of the weirdos\,” Brillz said. “Twonk is about creativity\, individuality… it’s about self-expression.”\nIn the past few years\, Brillz has set a huge movement in a motion alongside his Twonk Team. Perfecting his lethal brand of bone rattling percussion and twisted vocal chops\, Brillz’s beats have successfully permeated dancefloors worldwide\, as well as two top 10 albums on iTunes.\n\nFor the Twonk Di Nation Tour\, Brillz is bringing over 13 friends on over 37 club dates this fall. Starting in November in New York\, the tour will host a varied lineup\, depending on the location. If you’re down with the #TWONKTEAM then get ready to Twonk Di Nation and join us on our partnering dates.\n\n**************************\nTickets available now at\nhttp://brillz2016orlando.eventbrite.com/?aff=htg\n**************************\n\nfor more information visit\nwww.HTG-Events.com
URL:https://htg-events.com/event/venue-578-firestone/orlando/2015/brillz-twonk-dination-tour/
LOCATION:578 N Orange Ave.\, Orlando\, FL\, 32801\, United States
GEO:28.5507299;-81.3794591
X-APPLE-STRUCTURED-LOCATION;VALUE=URI;X-ADDRESS=578 N Orange Ave. Orlando FL 32801 United States;X-APPLE-RADIUS=500;X-TITLE=578 N Orange Ave.:geo:-81.3794591,28.5507299
END:VEVENT
END:VCALENDAR