BEGIN:VCALENDAR
VERSION:2.0
PRODID:-//HTG Events Orlando - ECPv4.2//NONSGML v1.0//EN
CALSCALE:GREGORIAN
METHOD:PUBLISH
X-WR-CALNAME:HTG Events Orlando
X-ORIGINAL-URL:https://htg-events.com
X-WR-CALDESC:Events for HTG Events Orlando
BEGIN:VEVENT
DTSTART;TZID=America/New_York:20150409T220000
DTEND;TZID=America/New_York:20150410T023000
DTSTAMP:20260423T215317
CREATED:20150220T050000
LAST-MODIFIED:20160820T052353
UID:24298-1428616800-1428633000@htg-events.com
SUMMARY:Brillz
DESCRIPTION:HTG Events and DDP will be hosting the legendary Brillz in Orlando on April 9th\, 2015 at Venue 578! Follow the link for event and ticketing information.\n\n \nBrillz\n-----------------\n\n\nWith releases on staple electronic labels including OWSLA\, MAD DECENT and SLOW ROAST RECORDS\, as well as two\, Top 10 albums on the iTunes dance charts\, all within the span of a year; BRILLZ should be called the rookie MVP of the Bass Music game.Turning heads with his trapped-out blend of hip-hop and EDM\, Brillz's interest in music stems from his history in the dance music scene. Introduced through the dance itself\, Brillz was a founding member of a dance crew called Liquid Pop Collective before producing and DJing. The group would hold events on the East Coast\, merging the dance styles of funk and hip-hop with the rave culture dance “Liquid”. As he progressed into production\, these themes would carry through as a foundation of Brillz's aesthetic.---HTG will also be adding high tech LED special effects and lighting. Considered by many to be the best in the industry!TICKETS AVAILABLE NOW AT:\nhttp://brillz2015orlando.eventbrite.com/?aff=htg\n\nBottle Service & Table Reservations (21+):Call/text 407-883-9033 or email VIP@venue578.com for purchase minimums\, package pricing and availability.---Will call opens at the front door at 10:00pm.ID/credit card used for purchase must be present for ticket pick-up.Parking: Lighted and secure parking with gated security for $10 behind the venue at 42 W. Concord Street. Parking also available on the street or in downtown garages.Dress Code: Relaxed. No professional cameras permitted without an approved media pass. No backpacks. Bags subject to search.---18+ w/ valid ID
URL:https://htg-events.com/event/venue-578-firestone/orlando/2015/brillz/
LOCATION:578 N Orange Ave.\, Orlando\, FL\, 32801\, United States
GEO:28.5507299;-81.3794591
X-APPLE-STRUCTURED-LOCATION;VALUE=URI;X-ADDRESS=578 N Orange Ave. Orlando FL 32801 United States;X-APPLE-RADIUS=500;X-TITLE=578 N Orange Ave.:geo:-81.3794591,28.5507299
END:VEVENT
END:VCALENDAR