BEGIN:VCALENDAR
VERSION:2.0
PRODID:-//HTG Events Orlando - ECPv4.2//NONSGML v1.0//EN
CALSCALE:GREGORIAN
METHOD:PUBLISH
X-WR-CALNAME:HTG Events Orlando
X-ORIGINAL-URL:https://htg-events.com
X-WR-CALDESC:Events for HTG Events Orlando
BEGIN:VEVENT
DTSTART;TZID=America/New_York:20150314T220000
DTEND;TZID=America/New_York:20150315T023000
DTSTAMP:20260424T004538
CREATED:20150126T050000
LAST-MODIFIED:20160820T052354
UID:24293-1426370400-1426386600@htg-events.com
SUMMARY:Cash Cash
DESCRIPTION:Surrender Tour\nHTG Events will be hosting the legendary Cash Cash in Orlando on March 14\, 2015 at Venue 578! Follow the link for event and ticketing information.\n\n \n\nCash Cash\n-----------\n\n\nA trio of best friends and brothers (Jean Paul Makhlouf\, Alex Makhlouf and Samuel Frisch) comprise the internationally praised electronic act\, CASH CASH\, hailed for their infectious dance-pop original tracks\, vibrant remix productions as well as their energetic live DJ sets on festival mainstages and clubs spanning across the globe.\n\nThe producers\, songwriters and multi-instrumentalists recently took EDM enthusiasts by storm with their RIAA-certified GOLD smash\, “Take Me Home ft. Bebe Rexha” from the “Overtime” EP released on Big Beat Records\, as well as their single featuring the Goo Goo Dolls frontman\, “Lightning ft. John Rzeznik\,” which in tandem established the act a mainstay in the dance scene. “Take Me Home ft. Bebe Rexha” entered Top 25 on Billboard’s Dance/Electronic Chart\, achieved #5 on iTunes Dance\, as well as #1 placement on the Mediabase Dance Chart\, along with placement in national Top 40 pop radio.\n\n2015 will bring a full-length album from Cash Cash on legendary dance music imprint\, Big Beat Records\, sharing a diverse electronic roster which spans the gamut: David Guetta\, Skrillex\, Icona Pop\, Chromeo\, Chuckie\, Hot Natured\, Martin Solveig\, Flux Pavilion\, Knife Party\, Clean Bandit\, Teddybears\, Rudimental\, Walden and more.\n\n---\n\nHTG will also be adding high tech LED special effects and lighting. Considered by many to be the best in the industry!\n\n**************\n\nTICKETS AVAILABLE NOW AT:\nhttp://cashcash2015orlando.eventbrite.com/?aff=htg\n\n**************\n\nBottle Service & Table Reservations (21+):\nCall/text 407-883-9033 or email VIP@venue578.com for purchase minimums\, package pricing and availability.\n\n---\n\nWill call opens at the front door at 10:00pm.\nID/credit card used for purchase must be present for ticket pick-up.\n\nParking: Lighted and secure parking with gated security for $6 behind the venue at 42 W. Concord Street. Parking also available on the street or in downtown garages.\n\nDress Code: Relaxed. No professional cameras permitted without an approved media pass. No backpacks. Bags subject to search.\n\n---\n\n18+ w/ valid ID
URL:https://htg-events.com/event/venue-578-firestone/orlando/2015/cash-cash-2/
LOCATION:578 N Orange Ave.\, Orlando\, FL\, 32801\, United States
GEO:28.5507299;-81.3794591
X-APPLE-STRUCTURED-LOCATION;VALUE=URI;X-ADDRESS=578 N Orange Ave. Orlando FL 32801 United States;X-APPLE-RADIUS=500;X-TITLE=578 N Orange Ave.:geo:-81.3794591,28.5507299
END:VEVENT
END:VCALENDAR