BEGIN:VCALENDAR
VERSION:2.0
PRODID:-//HTG Events Orlando - ECPv4.2//NONSGML v1.0//EN
CALSCALE:GREGORIAN
METHOD:PUBLISH
X-WR-CALNAME:HTG Events Orlando
X-ORIGINAL-URL:https://htg-events.com
X-WR-CALDESC:Events for HTG Events Orlando
BEGIN:VEVENT
DTSTART;TZID=America/New_York:20151031T220000
DTEND;TZID=America/New_York:20151101T023000
DTSTAMP:20260422T090231
CREATED:20150901T040000
LAST-MODIFIED:20160820T052353
UID:24330-1446328800-1446345000@htg-events.com
SUMMARY:Contagion Zone with Milo and Otis
DESCRIPTION:HTG Events and DDP will be hosting the legendary Milo and Otis in Orlando on October 31st\, 2015 at Venue 578! Follow the link for event and ticketing information.\n\n \nContagion Zone with Milo and Otis\nA very special Halloween evening withMilo & Otis-----------https://www.facebook.com/TheMiloAndOtishttps://soundcloud.com/miloandotishttps://twitter.com/MiloAndOtis----------------------\nSET TIME:\n\n\nMainstage\n10-11:00PM CULTR\n11-12:00AM D-DAY\n12-1AM Surprise Guest\n1-2:30AM Milo & Otis\n2:30AM-3:30AM MHKAZ\n\n\nTerrace\n10-11PM Rono\n11-12AM Tra Miller\n\nThe Den\n10-11PM ADHD\n11-12AM Ted Hogan\n12-1AM Carlos The Robo\n\n\nDo you dare enter the contagion zone?Two dudes\, one is a professional fake book writer & the other is a leprechaun farmer who's a gambler - Trap Arms (OUT NOW)No but seriously. These hometown heroes rock. From the underground clubs of Orlando to joining Skrillex on his renowned Mothership Tour\, the ascent of MILO & OTIS has only just begun. What started as a side project between two of the most sought-after young DJ/Producers in the business\, Matt Nemethy aka NYMZ and Graham Andrew aka KillaGraham\, has evolved into a full-fledged phenomenon.Since MILO & OTIS made their way to Los Angeles the duo has played to raucous crowds at Electric Zoo\, TomorrowWorld\, Hard Summer\, Mysteryland\, and the entire Mothership Tour. Pushing the accepted -------------------------HTG will also be adding high tech LED special effects and lighting. Considered by many to be the best in the industry!TICKETS AVAILABLE NOW AT:http://miloandotisorlando.eventbrite.com/?aff=htgBottle Service & Table Reservations (21+):Call/text 407-883-9033 or email VIP@venue578.com for purchase minimums\, package pricing and availability.http://www.venue578.com/Will call opens at the front door at 10:00pm.ID/credit card used for purchase must be present for ticket pick-up.Parking: Lighted and secure parking with gated security for $10 behind the venue at 42 W. Concord Street. Parking also available on the street or in downtown garages.Dress Code: Relaxed. No professional cameras permitted without an approved media pass. No backpacks. Bags subject to search.---18+ w/ valid ID\n\n 
URL:https://htg-events.com/event/venue-578-firestone/orlando/2015/contagion-zone-with-milo-and-otis/
LOCATION:578 N Orange Ave.\, Orlando\, FL\, 32801\, United States
GEO:28.5507299;-81.3794591
X-APPLE-STRUCTURED-LOCATION;VALUE=URI;X-ADDRESS=578 N Orange Ave. Orlando FL 32801 United States;X-APPLE-RADIUS=500;X-TITLE=578 N Orange Ave.:geo:-81.3794591,28.5507299
END:VEVENT
END:VCALENDAR