BEGIN:VCALENDAR
VERSION:2.0
PRODID:-//HTG Events Orlando - ECPv4.2//NONSGML v1.0//EN
CALSCALE:GREGORIAN
METHOD:PUBLISH
X-WR-CALNAME:HTG Events Orlando
X-ORIGINAL-URL:https://htg-events.com
X-WR-CALDESC:Events for HTG Events Orlando
BEGIN:VEVENT
DTSTART;TZID=America/New_York:20150730T220000
DTEND;TZID=America/New_York:20150731T023000
DTSTAMP:20260421T121815
CREATED:20150701T040000
LAST-MODIFIED:20160820T052353
UID:24312-1438293600-1438309800@htg-events.com
SUMMARY:DJ Snake
DESCRIPTION:DJ Snake\nWWW.SOUNDCLOUD.COM/DJSNAKE\nWWW.FACEBOOK.COM/DJSNAKE\nWWW.TWITTER.COM/DJSNAKE\nWWW.DJSNAKE.FR\n\nA Grammy-nominated producer\, DJ Snake is a Frenchman at the forefront of the trap music movement\, having taken the genre to the charts with his 2013 single "Turn Down for What" featuring Lil Jon. Born William Grigahcine\, Snake's production work on Lady Gaga's 2011 effort Born This Way earned him a Grammy nod when it was nominated for Album of the Year in 2012. Also in 2012\, he signed with Diplo's imprint Mad Decent and released the single "Bird Machine" on the label in 2013. The singles "Slow Down" and "Together" also arrived in 2013\, along with more work for Gaga on her ARTPOP album. His big break as a solo artist came late in the year when "Turn Down for What" featuring Lil Jon arrived and became the most popular crossover trap hit since Baauer's "Harlem Shake." ~ David Jeffries\n\n---\n\n-----------------------\nTickets available now at:\nhttp://djsnakeorlando.eventbrite.com/?aff=htg\n-----------------------\n\nDOORS: 10:00pm\n\nAGES: 18+ w/valid ID\n\nWILL CALL: Opens at the front door at 10:00pm. ID must match name on purchase order for ticket pickup.\n\nPARKING: Lighted and secure parking with gated security for a fee behind the venue\, at 42 W. Concord Street. Parking also available on the street or in downtown garages.\n\nDRESS CODE: Relaxed. No professional cameras permitted without an approved Media Pass. No Backpacks. Bags subject to search.\n\nBOTTLE SERVICE/TABLE RSVP: (21+ ONLY) Call/Text 407.883.9033 or Email vip@Venue578.com for purchase minimums\, package pricing and availability. Table Service click here: WWW.VENUE578.COM
URL:https://htg-events.com/event/venue-578-firestone/orlando/2015/dj-snake/
LOCATION:578 N Orange Ave.\, Orlando\, FL\, 32801\, United States
GEO:28.5507299;-81.3794591
X-APPLE-STRUCTURED-LOCATION;VALUE=URI;X-ADDRESS=578 N Orange Ave. Orlando FL 32801 United States;X-APPLE-RADIUS=500;X-TITLE=578 N Orange Ave.:geo:-81.3794591,28.5507299
ATTACH;FMTTYPE=image/jpeg:https://img.htg-events.com/wp-content/uploads/2016/04/Insta.jpg
END:VEVENT
END:VCALENDAR