BEGIN:VCALENDAR
VERSION:2.0
PRODID:-//HTG Events Orlando - ECPv4.2//NONSGML v1.0//EN
CALSCALE:GREGORIAN
METHOD:PUBLISH
X-WR-CALNAME:HTG Events Orlando
X-ORIGINAL-URL:https://htg-events.com
X-WR-CALDESC:Events for HTG Events Orlando
BEGIN:VEVENT
DTSTART;TZID=America/New_York:20150320T220000
DTEND;TZID=America/New_York:20150321T023000
DTSTAMP:20260423T231303
CREATED:20150213T050000
LAST-MODIFIED:20160820T052354
UID:24297-1426888800-1426905000@htg-events.com
SUMMARY:Snails
DESCRIPTION:HTG Events and DDP will be hosting the legendary SNAILS in Orlando on March 20th\, 2015 at Venue 578! Follow the link for event and ticketing information.\n\n \nSnails\n-------------------------\n\n\n \n\n \n\n‘SNAILS’ is a Montreal-based producer and DJ who pushes a forward-thinking brand of dance music combining hip-hop rhythms\, dirty bass lines and off-kilter sound design.\n\nA member of the Kannibalen Records family\, Snails released his first tracks in 2012. Since then he has amassed a burgeoning fanbase of snail-heads and bass-lovers from all over.\n\nHis latest original tracks that have all gone viral\, “Dirty Raxxx”\, “KRMT” and “SLUGZ” blend hypnotic melodies\, huge drops and mind-bending sample manipulation into a tight\, dance-floor friendly package.\n\nWith heavyweights like Skrillex\, Diplo\, Datsik\, Excision\, Flosstradamus and many more supporting his fresh new sound\, Snails looks primed to bring his unique take on dance and bass music to the world.\n\n“Snails has a style of his own\, flexes synth work that most people can’t even begin to duplicate.”\n\n-DO ANDROIDS DANCE\n\n“The attention gained support from the likes of Kill the Noise\, Adventure Club\, Datsik\, Flux Pavilion\, DJ Snake\, and others since the initial debut leading up to todays delivery.”\n\n-THIS SONG IS SICK\n________________________\nHTG will also be adding high tech LED special effects and lighting. Considered by many to be the best in the industry!\n\nTICKETS AVAILABLE NOW AT:\nhttp://snailsorlando.eventbrite.com/?aff=htg\n\nBottle Service & Table Reservations (21+):\n\nCall/text 407-883-9033 or email VIP@venue578.com for purchase minimums\, package pricing and availability.\n\n---\nWill call opens at the front door at 10:00pm.\nID/credit card used for purchase must be present for ticket pick-up.\n\nParking: Lighted and secure parking with gated security for $10 behind the venue at 42 W. Concord Street. Parking also available on the street or in downtown garages.\n\nDress Code: Relaxed. No professional cameras permitted without an approved media pass. No backpacks. Bags subject to search.\n\n---\n18+ w/ valid ID\n\n 
URL:https://htg-events.com/event/venue-578-firestone/orlando/2015/snails/
LOCATION:578 N Orange Ave.\, Orlando\, FL\, 32801\, United States
GEO:28.5507299;-81.3794591
X-APPLE-STRUCTURED-LOCATION;VALUE=URI;X-ADDRESS=578 N Orange Ave. Orlando FL 32801 United States;X-APPLE-RADIUS=500;X-TITLE=578 N Orange Ave.:geo:-81.3794591,28.5507299
END:VEVENT
END:VCALENDAR