BEGIN:VCALENDAR
VERSION:2.0
PRODID:-//HTG Events Orlando - ECPv4.2//NONSGML v1.0//EN
CALSCALE:GREGORIAN
METHOD:PUBLISH
X-WR-CALNAME:HTG Events Orlando
X-ORIGINAL-URL:https://htg-events.com
X-WR-CALDESC:Events for HTG Events Orlando
BEGIN:VEVENT
DTSTART;TZID=America/New_York:20160114T220000
DTEND;TZID=America/New_York:20160115T023000
DTSTAMP:20260419T153523
CREATED:20151109T050000
LAST-MODIFIED:20160820T052353
UID:24333-1452808800-1452825000@htg-events.com
SUMMARY:Troyboi
DESCRIPTION:HTG Events and DDP  will be hosting Troyboi  in Orlando on January 14th\, 2016 at Venue 578! Follow the link for event and ticketing information.\nTroyboi\n\nhttps://www.facebook.com/troyboimusic/\nhttps://twitter.com/TroyBoiMusic\n\nOne of South East London's most closely guarded secrets has recently emerged from the shadows and is set to take the music\nindustry by storm. Known only as TroyBoi\, this multi-talented musician specialises in extraordinarily unique\, versatile\, and highly musical tracks that fuses various textures from multiple genres and brands it as 'My Style'. TroyBoi is without a doubt one of the top up-and-coming producers in the game right now and it's quite clear from his composition that his influences are vast indeed. He has already produced tracks with some very high profile artists and his collaboration with Flosstradamus 'Soundclash' is arguably one of the biggest anthems in the scene today. His style is undeniably his own\, infectious to the ears and beyond stimulating to the mind. He is also one half of the Producer/DJ duo SoundSnobz with one of his\nbest friends\, icekream and together they craft the most creative and daring audio paintings you'll ever listen to. Buckle up and get ready to be taken into the world of TroyBoi because once you are in\, you will NEVER want to get out.\n\nHTG will also be adding high tech LED special effects and lighting. Considered by many to be the best in the industry!\n\n**********************************\nTICKETS AVAILABLE NOW AT:\nhttp://troyboi2015orlando.eventbrite.com/?aff=htg\n**********************************\n\nBottle Service & Table Reservations (21+):\nCall/text 407-883-9033 or email VIP@venue578.com for purchase minimums\, package pricing and availability.\n\n---\n\nWill call opens at the front door at 10:00pm.\nID/credit card used for purchase must be present for ticket pick-up.\n\nParking: Lighted and secure parking with gated security for $10 behind the venue at 42 W. Concord Street. Parking also available on the street or in downtown garages.\n\nDress Code: Relaxed. No professional cameras permitted without an approved media pass. No backpacks. Bags subject to search.\n\n---\n18+ w/ valid ID\n\nMore information at:\nhttp://htg-events.com/
URL:https://htg-events.com/event/venue-578-firestone/orlando/2015/troyboi/
LOCATION:578 N Orange Ave.\, Orlando\, FL\, 32801\, United States
GEO:28.5507299;-81.3794591
X-APPLE-STRUCTURED-LOCATION;VALUE=URI;X-ADDRESS=578 N Orange Ave. Orlando FL 32801 United States;X-APPLE-RADIUS=500;X-TITLE=578 N Orange Ave.:geo:-81.3794591,28.5507299
END:VEVENT
END:VCALENDAR