BEGIN:VCALENDAR
VERSION:2.0
PRODID:-//HTG Events Orlando - ECPv4.2//NONSGML v1.0//EN
CALSCALE:GREGORIAN
METHOD:PUBLISH
X-WR-CALNAME:HTG Events Orlando
X-ORIGINAL-URL:https://htg-events.com
X-WR-CALDESC:Events for HTG Events Orlando
BEGIN:VEVENT
DTSTART;TZID=America/New_York:20150806T220000
DTEND;TZID=America/New_York:20150807T023000
DTSTAMP:20260421T121215
CREATED:20150604T040000
LAST-MODIFIED:20160820T052353
UID:24304-1438898400-1438914600@htg-events.com
SUMMARY:Zeds Dead!
DESCRIPTION:Zeds Dead\n \n\nZEDS DEAD\n-----------------\nhttps://www.facebook.com/zedsdead\nhttp://www.twitter.com/whoszed\nhttp://soundcloud.com/zedsdead\nInstagram:@zedsdeadofficial\n@zedsdead_hooks @zedsdead_dc\n\n\n\n \n\nDC and Hooks are Zeds Dead.\n\nThey first hooked up in 2004 and formed Mass Productions. Influenced by the digging in the crates sampling school of hip hop\, Mass Productions released one independent album in the summer of 2007 entitled Fresh Beetz. It was their first and only release.\n\nIn the summer of 2009\, the two launched their second collaboration – Zeds Dead – turning up the bpm and aiming the bass-lines at the dance-floor. Soon after Zeds Dead (alongside The Killabits) founded a weekly party in Toronto called BassMentality. Guests have included Nero\, Skrillex\, 12th Planet\, Borgore\, Mary Anne Hobbs\, Plastician\, Netsky\, and many more.\n\nTwo of the hardest workers in electronic music\, Zeds Dead’s tireless efforts have earned them an excellent reputation amongst a new generation of producers as artists without borders – genres hold no bearing over their music as they transcend style and form with ease. By pulling from a vast array of source material (Radiohead\, The Rolling Stones\, The Moody Blues\, Sublime)\, and molding it into their unique brand of dance-floor classics\, They have established themselves as a dominant force in EDM circles and have received recognition and praise from tastemakers worldwide. With a stockpile of originals and remixes set to be released in 2011\, DC and Hooks show no signs of slowing down.\n\nCatch them live and you’ll know: Zeds Dead is here to stay\n\n---\n\nHTG will also be adding high tech LED special effects and lighting. Considered by many to be the best in the industry!\n\nTICKETS AVAILABLE NOW AT:\n\nhttp://zedsdead2015orlando.eventbrite.com/?aff=HTG\n\nBottle Service & Table Reservations (21+):\nCall/text 407-883-9033 or email VIP@venue578.com for purchase minimums\, package pricing and availability.\n\n---\n\nWill call opens at the front door at 10:00pm.\nID/credit card used for purchase must be present for ticket pick-up.\n\nParking: Lighted and secure parking with gated security for $10 behind the venue at 42 W. Concord Street. Parking also available on the street or in downtown garages.\n\nDress Code: Relaxed. No professional cameras permitted without an approved media pass. No backpacks. Bags subject to search.\n\n---\n\n18+ w/ valid ID
URL:https://htg-events.com/event/venue-578-firestone/orlando/2015/zeds-dead/
LOCATION:578 N Orange Ave.\, Orlando\, FL\, 32801\, United States
GEO:28.5507299;-81.3794591
X-APPLE-STRUCTURED-LOCATION;VALUE=URI;X-ADDRESS=578 N Orange Ave. Orlando FL 32801 United States;X-APPLE-RADIUS=500;X-TITLE=578 N Orange Ave.:geo:-81.3794591,28.5507299
END:VEVENT
END:VCALENDAR