BEGIN:VCALENDAR
VERSION:2.0
PRODID:-//HTG Events Orlando - ECPv4.2//NONSGML v1.0//EN
CALSCALE:GREGORIAN
METHOD:PUBLISH
X-WR-CALNAME:HTG Events Orlando
X-ORIGINAL-URL:https://htg-events.com
X-WR-CALDESC:Events for HTG Events Orlando
BEGIN:VEVENT
DTSTART;TZID=America/New_York:20230225T220000
DTEND;TZID=America/New_York:20230226T030000
DTSTAMP:20260425T143333
CREATED:20230120T160314
LAST-MODIFIED:20230120T160518
UID:25991-1677362400-1677380400@htg-events.com
SUMMARY:Kai Wachi
DESCRIPTION:HTG Events\, Gilt\, & DDP will be hosting Kai Wachi  in Orlando on February 25th\, 2023 at Gilt! Follow the link for event and ticketing information.
URL:https://htg-events.com/event/gilt-nightclub/orlando/2023/25991/
LOCATION:740 Bennet Rd.\, Orlando\, FL\, 32804\, United States
GEO:28.5549259;-81.3342398
X-APPLE-STRUCTURED-LOCATION;VALUE=URI;X-ADDRESS=740 Bennet Rd. Orlando FL 32804 United States;X-APPLE-RADIUS=500;X-TITLE=740 Bennet Rd.:geo:-81.3342398,28.5549259
CATEGORIES:Featured Shows
ATTACH;FMTTYPE=image/jpeg:https://img.htg-events.com/wp-content/uploads/2023/01/320160839_682788983235811_6809729534028686308_n.jpg
END:VEVENT
END:VCALENDAR